BEGIN:VCALENDAR
VERSION:2.0
METHOD:PUBLISH
PRODID::-//Obvius//NONSGML ICal//DA
BEGIN:VEVENT
UID:2072814@nbarchive.ku.dk
DESCRIPTION:Henry Nielsen\, "Too Hot to Handle: The Controversial Hunt for
  Uranium in Greenland in the Early Cold War."\n\nhttps://nbarchive.ku.dk/n
 ba_calendar/2012/henry_nielsen/
SUMMARY:NBA History of Science Seminar
LOCATION:Aud. M\, Niels Bohr Institute Blegdamsvej 17\, Copenhagen 
ORGANIZER:Niels Bohr Archive
DTSTART:20121108T131500Z
DTSTAMP:20121108T131500Z
END:VEVENT
BEGIN:VEVENT
UID:2073000@nbarchive.ku.dk
DESCRIPTION:Henrik Zinkernagel\, "Are we living in a quantum world? Niels 
 Bohr and the classical-quantum divide."\n\nhttps://nbarchive.ku.dk/nba_cal
 endar/2012/henrik_zinkernagel/
SUMMARY:NBA History of Science Seminar
LOCATION:Aud. A\, Niels Bohr Institute Blegdamsvej 17\, Copenhagen 
ORGANIZER:Niels Bohr Archive
DTSTART:20120702T121500Z
DTSTAMP:20120702T121500Z
END:VEVENT
BEGIN:VEVENT
UID:2073288@nbarchive.ku.dk
DESCRIPTION:Erik Høg\, "Astrometry Lost and Regained."\n\nhttps://nbarchi
 ve.ku.dk/nba_calendar/2012/erik_hoeg/
SUMMARY:NBA History of Science Seminar
LOCATION:Aud. A\, Niels Bohr Institute Blegdamsvej 17\, Copenhagen 
ORGANIZER:Niels Bohr Archive
DTSTART:20120606T121500Z
DTSTAMP:20120606T121500Z
END:VEVENT
BEGIN:VEVENT
UID:2073510@nbarchive.ku.dk
DESCRIPTION:Olival Freire Jr\, "Continuity and Change: Charting David Bohm
 ’s Evolving Ideas on Quantum Mechanics."\n\nhttps://nbarchive.ku.dk/nba_
 calendar/2012/olival_freire/
SUMMARY:NBA History of Science Seminar
LOCATION:Aud. A\, Niels Bohr Institute Blegdamsvej 17\, Copenhagen 
ORGANIZER:Niels Bohr Archive
DTSTART:20120418T121500Z
DTSTAMP:20120418T121500Z
END:VEVENT
BEGIN:VEVENT
UID:2073597@nbarchive.ku.dk
DESCRIPTION:Roland Wittje\, "Niels Bohr and nuclear physics in Norway\, 19
 20s to 1950s."\n\nhttps://nbarchive.ku.dk/nba_calendar/2012/roland_wittje/
 
SUMMARY:NBA History of Science Seminar
LOCATION:Aud. A\, Niels Bohr Institute Blegdamsvej 17\, Copenhagen 
ORGANIZER:Niels Bohr Archive
DTSTART:20120127T131500Z
DTSTAMP:20120127T131500Z
END:VEVENT
BEGIN:VEVENT
UID:2074896@nbarchive.ku.dk
DESCRIPTION:Matthias Heymann\, "Constructing evidence and trust: How did c
 limate scientists' confidence in their models and simulations emerge?"\n\n
 https://nbarchive.ku.dk/nba_calendar/2012/matthias_heymann/
SUMMARY:NBA History of Science Seminar
LOCATION:Aud. A\, Niels Bohr Institute Blegdamsvej 17\, Copenhagen 
ORGANIZER:Niels Bohr Archive
DTSTART:20120118T131500Z
DTSTAMP:20120118T131500Z
END:VEVENT
END:VCALENDAR
